OziExplorer Map Data File Version 2.2
100k--q35-059_060.gif
100k--q35-059_060.gif
1 ,Map Code,
Pulkovo 1942 (2),WGS 84, 0.0000, 0.0000,WGS 84
Reserved 1
Reserved 2
Magnetic Variation,,,E
Map Projection,Transverse Mercator,PolyCal,No,AutoCalOnly,No,BSBUseWPX,No
Point01,xy, 114, 64,in, deg, 66, 40.0000,N, 29, 0.0000,E, grid, , , ,N
Point02,xy, 2018, 77,ex, deg, 66, 40.0000,N, 29, 30.0000,E, grid, , , ,N
Point03,xy, 4016, 78,ex, deg, 66, 40.0000,N, 30, 0.0000,E, grid, , , ,N
Point04,xy, 110, 1699,in, deg, 66, 30.0000,N, 29, 0.0000,E, grid, , , ,N
Point05,xy, 2073, 1714,in, deg, 66, 30.0000,N, 29, 30.0000,E, grid, , , ,N
Point06,xy, 4026, 1716,ex, deg, 66, 30.0000,N, 30, 0.0000,E, grid, , , ,N
Point07,xy, 100, 3335,in, deg, 66, 20.0000,N, 29, 0.0000,E, grid, , , ,N
Point08,xy, 2011, 3350,ex, deg, 66, 20.0000,N, 29, 30.0000,E, grid, , , ,N
Point09,xy, 4046, 3349,in, deg, 66, 20.0000,N, 30, 0.0000,E, grid, , , ,N
Point10,xy, , ,in, deg, , ,N, , ,W, grid, , , ,N
Point11,xy, , ,in, deg, , ,N, , ,W, grid, , , ,N
Point12,xy, , ,in, deg, , ,N, , ,W, grid, , , ,N
Point13,xy, , ,in, deg, , ,N, , ,W, grid, , , ,N
Point14,xy, , ,in, deg, , ,N, , ,W, grid, , , ,N
Point15,xy, , ,in, deg, , ,N, , ,W, grid, , , ,N
Point16,xy, , ,in, deg, , ,N, , ,W, grid, , , ,N
Point17,xy, , ,in, deg, , ,N, , ,W, grid, , , ,N
Point18,xy, , ,in, deg, , ,N, , ,W, grid, , , ,N
Point19,xy, , ,in, deg, , ,N, , ,W, grid, , , ,N
Point20,xy, , ,in, deg, , ,N, , ,W, grid, , , ,N
Point21,xy, , ,in, deg, , ,N, , ,W, grid, , , ,N
Point22,xy, , ,in, deg, , ,N, , ,W, grid, , , ,N
Point23,xy, , ,in, deg, , ,N, , ,W, grid, , , ,N
Point24,xy, , ,in, deg, , ,N, , ,W, grid, , , ,N
Point25,xy, , ,in, deg, , ,N, , ,W, grid, , , ,N
Point26,xy, , ,in, deg, , ,N, , ,W, grid, , , ,N
Point27,xy, , ,in, deg, , ,N, , ,W, grid, , , ,N
Point28,xy, , ,in, deg, , ,N, , ,W, grid, , , ,N
Point29,xy, , ,in, deg, , ,N, , ,W, grid, , , ,N
Point30,xy, , ,in, deg, , ,N, , ,W, grid, , , ,N
Projection Setup, 0.000000000, 27.000000000, 1.000000000, 500000.00, 0.00,,,,,
Map Feature = MF ; Map Comment = MC These follow if they exist
Track File = TF These follow if they exist
Moving Map Parameters = MM? These follow if they exist
MM0,Yes
MMPNUM,4
MMPXY,1,130,110
MMPXY,2,3943,110
MMPXY,3,3943,3314
MMPXY,4,130,3314
MMPLL,1, 29.003501, 66.661974
MMPLL,2, 29.982352, 66.663369
MMPLL,3, 29.973517, 66.336940
MMPLL,4, 29.007401, 66.335491
MM1B,11.339339
MOP,Map Open Position,0,0
IWH,Map Image Width/Height,4073,3424
