OziExplorer Map Data File Version 2.2
100k--q35-071_072--(1982).gif
100k--q35-071_072--(1982).gif
1 ,Map Code,
Pulkovo 1942 (2),WGS 84, 0.0000, 0.0000,WGS 84
Reserved 1
Reserved 2
Magnetic Variation,,,E
Map Projection,Transverse Mercator,PolyCal,No,AutoCalOnly,No,BSBUseWPX,No
Point01,xy, 116, 92,in, deg, 66, 20.0000,N, 29, 0.0000,E, grid, , , ,N
Point02,xy, 1906, 96,in, deg, 66, 20.0000,N, 29, 30.0000,E, grid, , , ,N
Point03,xy, 3699, 86,in, deg, 66, 20.0000,N, 30, 0.0000,E, grid, , , ,N
Point04,xy, 108, 1582,in, deg, 66, 10.0000,N, 29, 0.0000,E, grid, , , ,N
Point05,xy, 1909, 1586,in, deg, 66, 10.0000,N, 29, 30.0000,E, grid, , , ,N
Point06,xy, 3714, 1575,in, deg, 66, 10.0000,N, 30, 0.0000,E, grid, , , ,N
Point07,xy, 99, 3072,in, deg, 66, 0.0000,N, 29, 0.0000,E, grid, , , ,N
Point08,xy, 1912, 3076,in, deg, 66, 0.0000,N, 29, 30.0000,E, grid, , , ,N
Point09,xy, 3730, 3066,in, deg, 66, 0.0000,N, 30, 0.0000,E, grid, , , ,N
Point10,xy, , ,in, deg, , ,N, , ,W, grid, , , ,N
Point11,xy, , ,in, deg, , ,N, , ,W, grid, , , ,N
Point12,xy, , ,in, deg, , ,N, , ,W, grid, , , ,N
Point13,xy, , ,in, deg, , ,N, , ,W, grid, , , ,N
Point14,xy, , ,in, deg, , ,N, , ,W, grid, , , ,N
Point15,xy, , ,in, deg, , ,N, , ,W, grid, , , ,N
Point16,xy, , ,in, deg, , ,N, , ,W, grid, , , ,N
Point17,xy, , ,in, deg, , ,N, , ,W, grid, , , ,N
Point18,xy, , ,in, deg, , ,N, , ,W, grid, , , ,N
Point19,xy, , ,in, deg, , ,N, , ,W, grid, , , ,N
Point20,xy, , ,in, deg, , ,N, , ,W, grid, , , ,N
Point21,xy, , ,in, deg, , ,N, , ,W, grid, , , ,N
Point22,xy, , ,in, deg, , ,N, , ,W, grid, , , ,N
Point23,xy, , ,in, deg, , ,N, , ,W, grid, , , ,N
Point24,xy, , ,in, deg, , ,N, , ,W, grid, , , ,N
Point25,xy, , ,in, deg, , ,N, , ,W, grid, , , ,N
Point26,xy, , ,in, deg, , ,N, , ,W, grid, , , ,N
Point27,xy, , ,in, deg, , ,N, , ,W, grid, , , ,N
Point28,xy, , ,in, deg, , ,N, , ,W, grid, , , ,N
Point29,xy, , ,in, deg, , ,N, , ,W, grid, , , ,N
Point30,xy, , ,in, deg, , ,N, , ,W, grid, , , ,N
Projection Setup, 0.000000000, 27.000000000, 1.000000000, 500000.00, 0.00,,,,,
Map Feature = MF ; Map Comment = MC These follow if they exist
Track File = TF These follow if they exist
Moving Map Parameters = MM? These follow if they exist
MM0,Yes
MMPNUM,4
MMPXY,1,122,101
MMPXY,2,3688,101
MMPXY,3,3688,3068
MMPXY,4,122,3068
MMPLL,1, 29.001818, 66.332338
MMPLL,2, 29.997035, 66.331621
MMPLL,3, 29.988740, 65.999787
MMPLL,4, 29.006476, 66.000452
MM1B,12.494765
MOP,Map Open Position,0,0
IWH,Map Image Width/Height,3810,3169
