OziExplorer Map Data File Version 2.2
100k--q36-013_014.gif
100k--q36-013_014.gif
1 ,Map Code,
Pulkovo 1942 (2),WGS 84, 0.0000, 0.0000,WGS 84
Reserved 1
Reserved 2
Magnetic Variation,,,E
Map Projection,Transverse Mercator,PolyCal,No,AutoCalOnly,No,BSBUseWPX,No
Point01,xy, 97, 116,in, deg, 67, 40.0000,N, 30, 0.0000,E, grid, , , ,N
Point02,xy, 1768, 107,in, deg, 67, 40.0000,N, 30, 30.0000,E, grid, , , ,N
Point03,xy, 3437, 86,in, deg, 67, 40.0000,N, 31, 0.0000,E, grid, , , ,N
Point04,xy, 111, 1570,in, deg, 67, 30.0000,N, 30, 0.0000,E, grid, , , ,N
Point05,xy, 1781, 1569,in, deg, 67, 30.0000,N, 30, 30.0000,E, grid, , , ,N
Point06,xy, 3454, 1541,in, deg, 67, 30.0000,N, 31, 0.0000,E, grid, , , ,N
Point07,xy, 104, 3036,in, deg, 67, 20.0000,N, 30, 0.0000,E, grid, , , ,N
Point08,xy, 1794, 3035,in, deg, 67, 20.0000,N, 30, 30.0000,E, grid, , , ,N
Point09,xy, 3484, 3006,in, deg, 67, 20.0000,N, 31, 0.0000,E, grid, , , ,N
Point10,xy, , ,in, deg, , ,N, , ,W, grid, , , ,N
Point11,xy, , ,in, deg, , ,N, , ,W, grid, , , ,N
Point12,xy, , ,in, deg, , ,N, , ,W, grid, , , ,N
Point13,xy, , ,in, deg, , ,N, , ,W, grid, , , ,N
Point14,xy, , ,in, deg, , ,N, , ,W, grid, , , ,N
Point15,xy, , ,in, deg, , ,N, , ,W, grid, , , ,N
Point16,xy, , ,in, deg, , ,N, , ,W, grid, , , ,N
Point17,xy, , ,in, deg, , ,N, , ,W, grid, , , ,N
Point18,xy, , ,in, deg, , ,N, , ,W, grid, , , ,N
Point19,xy, , ,in, deg, , ,N, , ,W, grid, , , ,N
Point20,xy, , ,in, deg, , ,N, , ,W, grid, , , ,N
Point21,xy, , ,in, deg, , ,N, , ,W, grid, , , ,N
Point22,xy, , ,in, deg, , ,N, , ,W, grid, , , ,N
Point23,xy, , ,in, deg, , ,N, , ,W, grid, , , ,N
Point24,xy, , ,in, deg, , ,N, , ,W, grid, , , ,N
Point25,xy, , ,in, deg, , ,N, , ,W, grid, , , ,N
Point26,xy, , ,in, deg, , ,N, , ,W, grid, , , ,N
Point27,xy, , ,in, deg, , ,N, , ,W, grid, , , ,N
Point28,xy, , ,in, deg, , ,N, , ,W, grid, , , ,N
Point29,xy, , ,in, deg, , ,N, , ,W, grid, , , ,N
Point30,xy, , ,in, deg, , ,N, , ,W, grid, , , ,N
Projection Setup, 0.000000000, 33.000000000, 1.000000000, 500000.00, 0.00,,,,,
Map Feature = MF ; Map Comment = MC These follow if they exist
Track File = TF These follow if they exist
Moving Map Parameters = MM? These follow if they exist
MM0,Yes
MMPNUM,4
MMPXY,1,97,116
MMPXY,2,3437,86
MMPXY,3,3484,3006
MMPXY,4,104,3036
MMPLL,1, 30.000000, 67.666667
MMPLL,2, 31.000000, 67.666667
MMPLL,3, 31.000000, 67.333333
MMPLL,4, 30.000000, 67.333333
MM1B,11.805999
MOP,Map Open Position,0,0
IWH,Map Image Width/Height,3572,3134
