OziExplorer Map Data File Version 2.2
100k--q36-015_016.gif
100k--q36-015_016.gif
1 ,Map Code,
Pulkovo 1942 (2),WGS 84, 0.0000, 0.0000,WGS 84
Reserved 1
Reserved 2
Magnetic Variation,,,E
Map Projection,Transverse Mercator,PolyCal,No,AutoCalOnly,No,BSBUseWPX,No
Point01,xy, 122, 86,in, deg, 67, 40.0000,N, 31, 0.0000,E, grid, , , ,N
Point02,xy, 1785, 96,in, deg, 67, 40.0000,N, 31, 30.0000,E, grid, , , ,N
Point03,xy, 3447, 93,in, deg, 67, 40.0000,N, 32, 0.0000,E, grid, , , ,N
Point04,xy, 104, 1548,in, deg, 67, 30.0000,N, 31, 0.0000,E, grid, , , ,N
Point05,xy, 1776, 1557,in, deg, 67, 30.0000,N, 31, 30.0000,E, grid, , , ,N
Point06,xy, 3457, 1551,in, deg, 67, 30.0000,N, 32, 0.0000,E, grid, , , ,N
Point07,xy, 88, 3013,in, deg, 67, 20.0000,N, 31, 0.0000,E, grid, , , ,N
Point08,xy, 1780, 3024,in, deg, 67, 20.0000,N, 31, 30.0000,E, grid, , , ,N
Point09,xy, 3474, 3013,in, deg, 67, 20.0000,N, 32, 0.0000,E, grid, , , ,N
Point10,xy, , ,in, deg, , ,N, , ,W, grid, , , ,N
Point11,xy, , ,in, deg, , ,N, , ,W, grid, , , ,N
Point12,xy, , ,in, deg, , ,N, , ,W, grid, , , ,N
Point13,xy, , ,in, deg, , ,N, , ,W, grid, , , ,N
Point14,xy, , ,in, deg, , ,N, , ,W, grid, , , ,N
Point15,xy, , ,in, deg, , ,N, , ,W, grid, , , ,N
Point16,xy, , ,in, deg, , ,N, , ,W, grid, , , ,N
Point17,xy, , ,in, deg, , ,N, , ,W, grid, , , ,N
Point18,xy, , ,in, deg, , ,N, , ,W, grid, , , ,N
Point19,xy, , ,in, deg, , ,N, , ,W, grid, , , ,N
Point20,xy, , ,in, deg, , ,N, , ,W, grid, , , ,N
Point21,xy, , ,in, deg, , ,N, , ,W, grid, , , ,N
Point22,xy, , ,in, deg, , ,N, , ,W, grid, , , ,N
Point23,xy, , ,in, deg, , ,N, , ,W, grid, , , ,N
Point24,xy, , ,in, deg, , ,N, , ,W, grid, , , ,N
Point25,xy, , ,in, deg, , ,N, , ,W, grid, , , ,N
Point26,xy, , ,in, deg, , ,N, , ,W, grid, , , ,N
Point27,xy, , ,in, deg, , ,N, , ,W, grid, , , ,N
Point28,xy, , ,in, deg, , ,N, , ,W, grid, , , ,N
Point29,xy, , ,in, deg, , ,N, , ,W, grid, , , ,N
Point30,xy, , ,in, deg, , ,N, , ,W, grid, , , ,N
Projection Setup, 0.000000000, 33.000000000, 1.000000000, 500000.00, 0.00,,,,,
Map Feature = MF ; Map Comment = MC These follow if they exist
Track File = TF These follow if they exist
Moving Map Parameters = MM? These follow if they exist
MM0,Yes
MMPNUM,4
MMPXY,1,122,86
MMPXY,2,3447,93
MMPXY,3,3474,3013
MMPXY,4,88,3013
MMPLL,1, 31.000000, 67.666667
MMPLL,2, 32.000000, 67.666667
MMPLL,3, 32.000000, 67.333333
MMPLL,4, 31.000000, 67.333333
MM1B,11.927789
MOP,Map Open Position,0,0
IWH,Map Image Width/Height,3555,3102
