OziExplorer Map Data File Version 2.2
100k--q36-031_032.gif
100k--q36-031_032.gif
1 ,Map Code,
Pulkovo 1942 (2),WGS 84, 0.0000, 0.0000,WGS 84
Reserved 1
Reserved 2
Magnetic Variation,,,E
Map Projection,Transverse Mercator,PolyCal,No,AutoCalOnly,No,BSBUseWPX,No
Point01,xy, 127, 88,in, deg, 67, 20.0000,N, 33, 0.0000,E, grid, , , ,N
Point02,xy, 1820, 98,in, deg, 67, 20.0000,N, 33, 30.0000,E, grid, , , ,N
Point03,xy, 3510, 96,in, deg, 67, 20.0000,N, 34, 0.0000,E, grid, , , ,N
Point04,xy, 114, 1551,in, deg, 67, 10.0000,N, 33, 0.0000,E, grid, , , ,N
Point05,xy, 1818, 1564,in, deg, 67, 10.0000,N, 33, 30.0000,E, grid, , , ,N
Point06,xy, 3521, 1558,in, deg, 67, 10.0000,N, 34, 0.0000,E, grid, , , ,N
Point07,xy, 101, 3017,in, deg, 67, 0.0000,N, 33, 0.0000,E, grid, , , ,N
Point08,xy, 1816, 3028,in, deg, 67, 0.0000,N, 33, 30.0000,E, grid, , , ,N
Point09,xy, 3533, 3021,in, deg, 67, 0.0000,N, 34, 0.0000,E, grid, , , ,N
Point10,xy, , ,in, deg, , ,N, , ,W, grid, , , ,N
Point11,xy, , ,in, deg, , ,N, , ,W, grid, , , ,N
Point12,xy, , ,in, deg, , ,N, , ,W, grid, , , ,N
Point13,xy, , ,in, deg, , ,N, , ,W, grid, , , ,N
Point14,xy, , ,in, deg, , ,N, , ,W, grid, , , ,N
Point15,xy, , ,in, deg, , ,N, , ,W, grid, , , ,N
Point16,xy, , ,in, deg, , ,N, , ,W, grid, , , ,N
Point17,xy, , ,in, deg, , ,N, , ,W, grid, , , ,N
Point18,xy, , ,in, deg, , ,N, , ,W, grid, , , ,N
Point19,xy, , ,in, deg, , ,N, , ,W, grid, , , ,N
Point20,xy, , ,in, deg, , ,N, , ,W, grid, , , ,N
Point21,xy, , ,in, deg, , ,N, , ,W, grid, , , ,N
Point22,xy, , ,in, deg, , ,N, , ,W, grid, , , ,N
Point23,xy, , ,in, deg, , ,N, , ,W, grid, , , ,N
Point24,xy, , ,in, deg, , ,N, , ,W, grid, , , ,N
Point25,xy, , ,in, deg, , ,N, , ,W, grid, , , ,N
Point26,xy, , ,in, deg, , ,N, , ,W, grid, , , ,N
Point27,xy, , ,in, deg, , ,N, , ,W, grid, , , ,N
Point28,xy, , ,in, deg, , ,N, , ,W, grid, , , ,N
Point29,xy, , ,in, deg, , ,N, , ,W, grid, , , ,N
Point30,xy, , ,in, deg, , ,N, , ,W, grid, , , ,N
Projection Setup, 0.000000000, 33.000000000, 1.000000000, 500000.00, 0.00,,,,,
Map Feature = MF ; Map Comment = MC These follow if they exist
Track File = TF These follow if they exist
Moving Map Parameters = MM? These follow if they exist
MM0,Yes
MMPNUM,4
MMPXY,1,116,100
MMPXY,2,3513,100
MMPXY,3,3513,3029
MMPXY,4,116,3029
MMPLL,1, 32.996768, 67.332010
MMPLL,2, 34.000623, 67.332732
MMPLL,3, 33.994438, 66.999306
MMPLL,4, 33.004349, 66.998581
MM1B,12.708483
MOP,Map Open Position,0,0
IWH,Map Image Width/Height,3629,3129
