OziExplorer Map Data File Version 2.2
100k--q36-047_048.gif
100k--q36-047_048.gif
1 ,Map Code,
Pulkovo 1942 (2),WGS 84, 0.0000, 0.0000,WGS 84
Reserved 1
Reserved 2
Magnetic Variation,,,E
Map Projection,Transverse Mercator,PolyCal,No,AutoCalOnly,No,BSBUseWPX,No
Point01,xy, 114, 98,in, deg, 67, 0.0000,N, 35, 0.0000,E, grid, , , ,N
Point02,xy, 1830, 102,in, deg, 67, 0.0000,N, 35, 30.0000,E, grid, , , ,N
Point03,xy, 3546, 88,in, deg, 67, 0.0000,N, 36, 0.0000,E, grid, , , ,N
Point04,xy, 107, 1561,in, deg, 66, 50.0000,N, 35, 0.0000,E, grid, , , ,N
Point05,xy, 1836, 1567,in, deg, 66, 50.0000,N, 35, 30.0000,E, grid, , , ,N
Point06,xy, 3563, 1552,in, deg, 66, 50.0000,N, 36, 0.0000,E, grid, , , ,N
Point07,xy, 100, 3027,in, deg, 66, 40.0000,N, 35, 0.0000,E, grid, , , ,N
Point08,xy, 1842, 3030,in, deg, 66, 40.0000,N, 35, 30.0000,E, grid, , , ,N
Point09,xy, 3580, 3015,in, deg, 66, 40.0000,N, 36, 0.0000,E, grid, , , ,N
Point10,xy, , ,in, deg, , ,N, , ,W, grid, , , ,N
Point11,xy, , ,in, deg, , ,N, , ,W, grid, , , ,N
Point12,xy, , ,in, deg, , ,N, , ,W, grid, , , ,N
Point13,xy, , ,in, deg, , ,N, , ,W, grid, , , ,N
Point14,xy, , ,in, deg, , ,N, , ,W, grid, , , ,N
Point15,xy, , ,in, deg, , ,N, , ,W, grid, , , ,N
Point16,xy, , ,in, deg, , ,N, , ,W, grid, , , ,N
Point17,xy, , ,in, deg, , ,N, , ,W, grid, , , ,N
Point18,xy, , ,in, deg, , ,N, , ,W, grid, , , ,N
Point19,xy, , ,in, deg, , ,N, , ,W, grid, , , ,N
Point20,xy, , ,in, deg, , ,N, , ,W, grid, , , ,N
Point21,xy, , ,in, deg, , ,N, , ,W, grid, , , ,N
Point22,xy, , ,in, deg, , ,N, , ,W, grid, , , ,N
Point23,xy, , ,in, deg, , ,N, , ,W, grid, , , ,N
Point24,xy, , ,in, deg, , ,N, , ,W, grid, , , ,N
Point25,xy, , ,in, deg, , ,N, , ,W, grid, , , ,N
Point26,xy, , ,in, deg, , ,N, , ,W, grid, , , ,N
Point27,xy, , ,in, deg, , ,N, , ,W, grid, , , ,N
Point28,xy, , ,in, deg, , ,N, , ,W, grid, , , ,N
Point29,xy, , ,in, deg, , ,N, , ,W, grid, , , ,N
Point30,xy, , ,in, deg, , ,N, , ,W, grid, , , ,N
Projection Setup, 0.000000000, 33.000000000, 1.000000000, 500000.00, 0.00,,,,,
Map Feature = MF ; Map Comment = MC These follow if they exist
Track File = TF These follow if they exist
Moving Map Parameters = MM? These follow if they exist
MM0,Yes
MMPNUM,4
MMPXY,1,118,100
MMPXY,2,3564,100
MMPXY,3,3564,3030
MMPXY,4,118,3030
MMPLL,1, 35.001244, 66.999878
MMPLL,2, 36.005129, 66.998665
MMPLL,3, 35.995242, 66.665157
MMPLL,4, 35.004911, 66.666311
MM1B,12.695848
MOP,Map Open Position,0,0
IWH,Map Image Width/Height,3682,3130
