OziExplorer Map Data File Version 2.2
100k--q36-049_050--(1981).gif
100k--q36-049_050--(1981).gif
1 ,Map Code,
Pulkovo 1942 (2),WGS 84, 0.0000, 0.0000,WGS 84
Reserved 1
Reserved 2
Magnetic Variation,,,E
Map Projection,Transverse Mercator,PolyCal,No,AutoCalOnly,No,BSBUseWPX,No
Point01,xy, 106, 88,in, deg, 66, 40.0000,N, 30, 0.0000,E, grid, , , ,N
Point02,xy, 1862, 98,in, deg, 66, 40.0000,N, 30, 30.0000,E, grid, , , ,N
Point03,xy, 3616, 96,in, deg, 66, 40.0000,N, 31, 0.0000,E, grid, , , ,N
Point04,xy, 102, 1554,in, deg, 66, 30.0000,N, 30, 0.0000,E, grid, , , ,N
Point05,xy, 1862, 1562,in, deg, 66, 30.0000,N, 30, 30.0000,E, grid, , , ,N
Point06,xy, 3626, 1562,in, deg, 66, 30.0000,N, 31, 0.0000,E, grid, , , ,N
Point07,xy, 90, 3035,in, deg, 66, 20.0000,N, 30, 0.0000,E, grid, , , ,N
Point08,xy, 1862, 3036,in, deg, 66, 20.0000,N, 30, 30.0000,E, grid, , , ,N
Point09,xy, 3628, 3039,in, deg, 66, 20.0000,N, 31, 0.0000,E, grid, , , ,N
Point10,xy, , ,in, deg, , ,N, , ,W, grid, , , ,N
Point11,xy, , ,in, deg, , ,N, , ,W, grid, , , ,N
Point12,xy, , ,in, deg, , ,N, , ,W, grid, , , ,N
Point13,xy, , ,in, deg, , ,N, , ,W, grid, , , ,N
Point14,xy, , ,in, deg, , ,N, , ,W, grid, , , ,N
Point15,xy, , ,in, deg, , ,N, , ,W, grid, , , ,N
Point16,xy, , ,in, deg, , ,N, , ,W, grid, , , ,N
Point17,xy, , ,in, deg, , ,N, , ,W, grid, , , ,N
Point18,xy, , ,in, deg, , ,N, , ,W, grid, , , ,N
Point19,xy, , ,in, deg, , ,N, , ,W, grid, , , ,N
Point20,xy, , ,in, deg, , ,N, , ,W, grid, , , ,N
Point21,xy, , ,in, deg, , ,N, , ,W, grid, , , ,N
Point22,xy, , ,in, deg, , ,N, , ,W, grid, , , ,N
Point23,xy, , ,in, deg, , ,N, , ,W, grid, , , ,N
Point24,xy, , ,in, deg, , ,N, , ,W, grid, , , ,N
Point25,xy, , ,in, deg, , ,N, , ,W, grid, , , ,N
Point26,xy, , ,in, deg, , ,N, , ,W, grid, , , ,N
Point27,xy, , ,in, deg, , ,N, , ,W, grid, , , ,N
Point28,xy, , ,in, deg, , ,N, , ,W, grid, , , ,N
Point29,xy, , ,in, deg, , ,N, , ,W, grid, , , ,N
Point30,xy, , ,in, deg, , ,N, , ,W, grid, , , ,N
Projection Setup, 0.000000000, 33.000000000, 1.000000000, 500000.00, 0.00,,,,,
Map Feature = MF ; Map Comment = MC These follow if they exist
Track File = TF These follow if they exist
Moving Map Parameters = MM? These follow if they exist
MM0,Yes
MMPNUM,4
MMPXY,1,119,100
MMPXY,2,3607,100
MMPXY,3,3607,3026
MMPXY,4,119,3026
MMPLL,1, 30.002027, 66.665119
MMPLL,2, 30.998438, 66.665884
MMPLL,3, 30.992228, 66.334435
MMPLL,4, 30.008976, 66.333712
MM1B,12.619585
MOP,Map Open Position,0,0
IWH,Map Image Width/Height,3726,3126
