OziExplorer Map Data File Version 2.2
100k--q36-051_052--(1981).gif
100k--q36-051_052--(1981).gif
1 ,Map Code,
Pulkovo 1942 (2),WGS 84, 0.0000, 0.0000,WGS 84
Reserved 1
Reserved 2
Magnetic Variation,,,E
Map Projection,Transverse Mercator,PolyCal,No,AutoCalOnly,No,BSBUseWPX,No
Point01,xy, 120, 100,in, deg, 66, 40.0000,N, 31, 0.0000,E, grid, , , ,N
Point02,xy, 1860, 110,in, deg, 66, 40.0000,N, 31, 30.0000,E, grid, , , ,N
Point03,xy, 3596, 98,in, deg, 66, 40.0000,N, 32, 0.0000,E, grid, , , ,N
Point04,xy, 110, 1562,in, deg, 66, 30.0000,N, 31, 0.0000,E, grid, , , ,N
Point05,xy, 1861, 1572,in, deg, 66, 30.0000,N, 31, 30.0000,E, grid, , , ,N
Point06,xy, 3611, 1560,in, deg, 66, 30.0000,N, 32, 0.0000,E, grid, , , ,N
Point07,xy, 100, 3028,in, deg, 66, 20.0000,N, 31, 0.0000,E, grid, , , ,N
Point08,xy, 1864, 3036,in, deg, 66, 20.0000,N, 31, 30.0000,E, grid, , , ,N
Point09,xy, 3626, 3023,in, deg, 66, 20.0000,N, 32, 0.0000,E, grid, , , ,N
Point10,xy, , ,in, deg, , ,N, , ,W, grid, , , ,N
Point11,xy, , ,in, deg, , ,N, , ,W, grid, , , ,N
Point12,xy, , ,in, deg, , ,N, , ,W, grid, , , ,N
Point13,xy, , ,in, deg, , ,N, , ,W, grid, , , ,N
Point14,xy, , ,in, deg, , ,N, , ,W, grid, , , ,N
Point15,xy, , ,in, deg, , ,N, , ,W, grid, , , ,N
Point16,xy, , ,in, deg, , ,N, , ,W, grid, , , ,N
Point17,xy, , ,in, deg, , ,N, , ,W, grid, , , ,N
Point18,xy, , ,in, deg, , ,N, , ,W, grid, , , ,N
Point19,xy, , ,in, deg, , ,N, , ,W, grid, , , ,N
Point20,xy, , ,in, deg, , ,N, , ,W, grid, , , ,N
Point21,xy, , ,in, deg, , ,N, , ,W, grid, , , ,N
Point22,xy, , ,in, deg, , ,N, , ,W, grid, , , ,N
Point23,xy, , ,in, deg, , ,N, , ,W, grid, , , ,N
Point24,xy, , ,in, deg, , ,N, , ,W, grid, , , ,N
Point25,xy, , ,in, deg, , ,N, , ,W, grid, , , ,N
Point26,xy, , ,in, deg, , ,N, , ,W, grid, , , ,N
Point27,xy, , ,in, deg, , ,N, , ,W, grid, , , ,N
Point28,xy, , ,in, deg, , ,N, , ,W, grid, , , ,N
Point29,xy, , ,in, deg, , ,N, , ,W, grid, , , ,N
Point30,xy, , ,in, deg, , ,N, , ,W, grid, , , ,N
Projection Setup, 0.000000000, 33.000000000, 1.000000000, 500000.00, 0.00,,,,,
Map Feature = MF ; Map Comment = MC These follow if they exist
Track File = TF These follow if they exist
Moving Map Parameters = MM? These follow if they exist
MM0,Yes
MMPNUM,4
MMPXY,1,119,100
MMPXY,2,3611,100
MMPXY,3,3611,3022
MMPXY,4,119,3022
MMPLL,1, 30.999783, 66.666823
MMPLL,2, 32.003921, 66.666482
MMPLL,3, 31.995917, 66.333655
MMPLL,4, 31.005092, 66.334012
MM1B,12.706363
MOP,Map Open Position,0,0
IWH,Map Image Width/Height,3730,3122
