OziExplorer Map Data File Version 2.2
100k--q36-055_056--(1977).gif
100k--q36-055_056--(1977).gif
1 ,Map Code,
Pulkovo 1942 (2),WGS 84, 0.0000, 0.0000,WGS 84
Reserved 1
Reserved 2
Magnetic Variation,,,E
Map Projection,Transverse Mercator,PolyCal,No,AutoCalOnly,No,BSBUseWPX,No
Point01,xy, 110, 96,in, deg, 66, 40.0000,N, 33, 0.0000,E, grid, , , ,N
Point02,xy, 1866, 102,in, deg, 66, 40.0000,N, 33, 30.0000,E, grid, , , ,N
Point03,xy, 3620, 118,in, deg, 66, 40.0000,N, 34, 0.0000,E, grid, , , ,N
Point04,xy, 98, 1564,in, deg, 66, 30.0000,N, 33, 0.0000,E, grid, , , ,N
Point05,xy, 1862, 1580,in, deg, 66, 30.0000,N, 33, 30.0000,E, grid, , , ,N
Point06,xy, 3626, 1588,in, deg, 66, 30.0000,N, 34, 0.0000,E, grid, , , ,N
Point07,xy, 82, 3044,in, deg, 66, 20.0000,N, 33, 0.0000,E, grid, , , ,N
Point08,xy, 1856, 3056,in, deg, 66, 20.0000,N, 33, 30.0000,E, grid, , , ,N
Point09,xy, 3626, 3061,in, deg, 66, 20.0000,N, 34, 0.0000,E, grid, , , ,N
Point10,xy, , ,in, deg, , ,N, , ,W, grid, , , ,N
Point11,xy, , ,in, deg, , ,N, , ,W, grid, , , ,N
Point12,xy, , ,in, deg, , ,N, , ,W, grid, , , ,N
Point13,xy, , ,in, deg, , ,N, , ,W, grid, , , ,N
Point14,xy, , ,in, deg, , ,N, , ,W, grid, , , ,N
Point15,xy, , ,in, deg, , ,N, , ,W, grid, , , ,N
Point16,xy, , ,in, deg, , ,N, , ,W, grid, , , ,N
Point17,xy, , ,in, deg, , ,N, , ,W, grid, , , ,N
Point18,xy, , ,in, deg, , ,N, , ,W, grid, , , ,N
Point19,xy, , ,in, deg, , ,N, , ,W, grid, , , ,N
Point20,xy, , ,in, deg, , ,N, , ,W, grid, , , ,N
Point21,xy, , ,in, deg, , ,N, , ,W, grid, , , ,N
Point22,xy, , ,in, deg, , ,N, , ,W, grid, , , ,N
Point23,xy, , ,in, deg, , ,N, , ,W, grid, , , ,N
Point24,xy, , ,in, deg, , ,N, , ,W, grid, , , ,N
Point25,xy, , ,in, deg, , ,N, , ,W, grid, , , ,N
Point26,xy, , ,in, deg, , ,N, , ,W, grid, , , ,N
Point27,xy, , ,in, deg, , ,N, , ,W, grid, , , ,N
Point28,xy, , ,in, deg, , ,N, , ,W, grid, , , ,N
Point29,xy, , ,in, deg, , ,N, , ,W, grid, , , ,N
Point30,xy, , ,in, deg, , ,N, , ,W, grid, , , ,N
Projection Setup, 0.000000000, 33.000000000, 1.000000000, 500000.00, 0.00,,,,,
Map Feature = MF ; Map Comment = MC These follow if they exist
Track File = TF These follow if they exist
Moving Map Parameters = MM? These follow if they exist
MM0,Yes
MMPNUM,4
MMPXY,1,119,101
MMPXY,2,3611,101
MMPXY,3,3611,3049
MMPXY,4,119,3049
MMPLL,1, 33.001416, 66.665642
MMPLL,2, 33.998054, 66.667989
MMPLL,3, 33.994444, 66.334711
MMPLL,4, 33.011037, 66.332375
MM1B,12.613660
MOP,Map Open Position,0,0
IWH,Map Image Width/Height,3730,3150
