OziExplorer Map Data File Version 2.2
100k--q37-003_004.gif
100k--q37-003_004.gif
1 ,Map Code,
Pulkovo 1942 (2),WGS 84, 0.0000, 0.0000,WGS 84
Reserved 1
Reserved 2
Magnetic Variation,,,E
Map Projection,Transverse Mercator,PolyCal,No,AutoCalOnly,No,BSBUseWPX,No
Point01,xy, 112, 90,in, deg, 68, 0.0000,N, 37, 0.0000,E, grid, , , ,N
Point02,xy, 1740, 96,in, deg, 68, 0.0000,N, 37, 30.0000,E, grid, , , ,N
Point03,xy, 3369, 90,in, deg, 68, 0.0000,N, 38, 0.0000,E, grid, , , ,N
Point04,xy, 98, 1543,in, deg, 67, 50.0000,N, 37, 0.0000,E, grid, , , ,N
Point05,xy, 1739, 1549,in, deg, 67, 50.0000,N, 37, 30.0000,E, grid, , , ,N
Point06,xy, 3377, 1545,in, deg, 67, 50.0000,N, 38, 0.0000,E, grid, , , ,N
Point07,xy, 81, 2995,in, deg, 67, 40.0000,N, 37, 0.0000,E, grid, , , ,N
Point08,xy, 1734, 3003,in, deg, 67, 40.0000,N, 37, 30.0000,E, grid, , , ,N
Point09,xy, 3386, 2997,in, deg, 67, 40.0000,N, 38, 0.0000,E, grid, , , ,N
Point10,xy, , ,in, deg, , ,N, , ,W, grid, , , ,N
Point11,xy, , ,in, deg, , ,N, , ,W, grid, , , ,N
Point12,xy, , ,in, deg, , ,N, , ,W, grid, , , ,N
Point13,xy, , ,in, deg, , ,N, , ,W, grid, , , ,N
Point14,xy, , ,in, deg, , ,N, , ,W, grid, , , ,N
Point15,xy, , ,in, deg, , ,N, , ,W, grid, , , ,N
Point16,xy, , ,in, deg, , ,N, , ,W, grid, , , ,N
Point17,xy, , ,in, deg, , ,N, , ,W, grid, , , ,N
Point18,xy, , ,in, deg, , ,N, , ,W, grid, , , ,N
Point19,xy, , ,in, deg, , ,N, , ,W, grid, , , ,N
Point20,xy, , ,in, deg, , ,N, , ,W, grid, , , ,N
Point21,xy, , ,in, deg, , ,N, , ,W, grid, , , ,N
Point22,xy, , ,in, deg, , ,N, , ,W, grid, , , ,N
Point23,xy, , ,in, deg, , ,N, , ,W, grid, , , ,N
Point24,xy, , ,in, deg, , ,N, , ,W, grid, , , ,N
Point25,xy, , ,in, deg, , ,N, , ,W, grid, , , ,N
Point26,xy, , ,in, deg, , ,N, , ,W, grid, , , ,N
Point27,xy, , ,in, deg, , ,N, , ,W, grid, , , ,N
Point28,xy, , ,in, deg, , ,N, , ,W, grid, , , ,N
Point29,xy, , ,in, deg, , ,N, , ,W, grid, , , ,N
Point30,xy, , ,in, deg, , ,N, , ,W, grid, , , ,N
Projection Setup, 0.000000000, 39.000000000, 1.000000000, 500000.00, 0.00,,,,,
Map Feature = MF ; Map Comment = MC These follow if they exist
Track File = TF These follow if they exist
Moving Map Parameters = MM? These follow if they exist
MM0,Yes
MMPNUM,4
MMPXY,1,112,90
MMPXY,2,3369,90
MMPXY,3,3386,2997
MMPXY,4,81,2995
MMPLL,1, 37.000000, 68.000000
MMPLL,2, 38.000000, 68.000000
MMPLL,3, 38.000000, 67.666667
MMPLL,4, 37.000000, 67.666667
MM1B,11.966365
MOP,Map Open Position,0,0
IWH,Map Image Width/Height,3460,3092
