OziExplorer Map Data File Version 2.2
100k--q37-041_042.gif
100k--q37-041_042.gif
1 ,Map Code,
Pulkovo 1942 (2),WGS 84, 0.0000, 0.0000,WGS 84
Reserved 1
Reserved 2
Magnetic Variation,,,E
Map Projection,Transverse Mercator,PolyCal,No,AutoCalOnly,No,BSBUseWPX,No
Point01,xy, 104, 96,in, deg, 67, 0.0000,N, 38, 0.0000,E, grid, , , ,N
Point02,xy, 1824, 102,in, deg, 67, 0.0000,N, 38, 30.0000,E, grid, , , ,N
Point03,xy, 3541, 94,in, deg, 67, 0.0000,N, 39, 0.0000,E, grid, , , ,N
Point04,xy, 94, 1562,in, deg, 66, 50.0000,N, 38, 0.0000,E, grid, , , ,N
Point05,xy, 1826, 1566,in, deg, 66, 50.0000,N, 38, 30.0000,E, grid, , , ,N
Point06,xy, 3554, 1556,in, deg, 66, 50.0000,N, 39, 0.0000,E, grid, , , ,N
Point07,xy, 86, 3026,in, deg, 66, 40.0000,N, 38, 0.0000,E, grid, , , ,N
Point08,xy, 1831, 3031,in, deg, 66, 40.0000,N, 38, 30.0000,E, grid, , , ,N
Point09,xy, 3570, 3017,in, deg, 66, 40.0000,N, 39, 0.0000,E, grid, , , ,N
Point10,xy, , ,in, deg, , ,N, , ,W, grid, , , ,N
Point11,xy, , ,in, deg, , ,N, , ,W, grid, , , ,N
Point12,xy, , ,in, deg, , ,N, , ,W, grid, , , ,N
Point13,xy, , ,in, deg, , ,N, , ,W, grid, , , ,N
Point14,xy, , ,in, deg, , ,N, , ,W, grid, , , ,N
Point15,xy, , ,in, deg, , ,N, , ,W, grid, , , ,N
Point16,xy, , ,in, deg, , ,N, , ,W, grid, , , ,N
Point17,xy, , ,in, deg, , ,N, , ,W, grid, , , ,N
Point18,xy, , ,in, deg, , ,N, , ,W, grid, , , ,N
Point19,xy, , ,in, deg, , ,N, , ,W, grid, , , ,N
Point20,xy, , ,in, deg, , ,N, , ,W, grid, , , ,N
Point21,xy, , ,in, deg, , ,N, , ,W, grid, , , ,N
Point22,xy, , ,in, deg, , ,N, , ,W, grid, , , ,N
Point23,xy, , ,in, deg, , ,N, , ,W, grid, , , ,N
Point24,xy, , ,in, deg, , ,N, , ,W, grid, , , ,N
Point25,xy, , ,in, deg, , ,N, , ,W, grid, , , ,N
Point26,xy, , ,in, deg, , ,N, , ,W, grid, , , ,N
Point27,xy, , ,in, deg, , ,N, , ,W, grid, , , ,N
Point28,xy, , ,in, deg, , ,N, , ,W, grid, , , ,N
Point29,xy, , ,in, deg, , ,N, , ,W, grid, , , ,N
Point30,xy, , ,in, deg, , ,N, , ,W, grid, , , ,N
Projection Setup, 0.000000000, 39.000000000, 1.000000000, 500000.00, 0.00,,,,,
Map Feature = MF ; Map Comment = MC These follow if they exist
Track File = TF These follow if they exist
Moving Map Parameters = MM? These follow if they exist
MM0,Yes
MMPNUM,4
MMPXY,1,117,100
MMPXY,2,3544,100
MMPXY,3,3544,3010
MMPXY,4,117,3010
MMPLL,1, 38.003748, 66.999775
MMPLL,2, 39.000862, 66.999124
MMPLL,3, 38.992431, 66.667785
MMPLL,4, 38.008689, 66.668434
MM1B,12.686371
MOP,Map Open Position,0,0
IWH,Map Image Width/Height,3661,3110
