OziExplorer Map Data File Version 2.2
100k--q37-059_060.gif
100k--q37-059_060.gif
1 ,Map Code,
Pulkovo 1942 (2),WGS 84, 0.0000, 0.0000,WGS 84
Reserved 1
Reserved 2
Magnetic Variation,,,E
Map Projection,Transverse Mercator,PolyCal,No,AutoCalOnly,No,BSBUseWPX,No
Point01,xy, 128, 84,in, deg, 66, 40.0000,N, 41, 0.0000,E, grid, , , ,N
Point02,xy, 1866, 94,in, deg, 66, 40.0000,N, 41, 30.0000,E, grid, , , ,N
Point03,xy, 3604, 91,in, deg, 66, 40.0000,N, 42, 0.0000,E, grid, , , ,N
Point04,xy, 112, 1548,in, deg, 66, 30.0000,N, 41, 0.0000,E, grid, , , ,N
Point05,xy, 1864, 1559,in, deg, 66, 30.0000,N, 41, 30.0000,E, grid, , , ,N
Point06,xy, 3615, 1552,in, deg, 66, 30.0000,N, 42, 0.0000,E, grid, , , ,N
Point07,xy, 100, 3012,in, deg, 66, 20.0000,N, 41, 0.0000,E, grid, , , ,N
Point08,xy, 1864, 3022,in, deg, 66, 20.0000,N, 41, 30.0000,E, grid, , , ,N
Point09,xy, 3628, 3014,in, deg, 66, 20.0000,N, 42, 0.0000,E, grid, , , ,N
Point10,xy, , ,in, deg, , ,N, , ,W, grid, , , ,N
Point11,xy, , ,in, deg, , ,N, , ,W, grid, , , ,N
Point12,xy, , ,in, deg, , ,N, , ,W, grid, , , ,N
Point13,xy, , ,in, deg, , ,N, , ,W, grid, , , ,N
Point14,xy, , ,in, deg, , ,N, , ,W, grid, , , ,N
Point15,xy, , ,in, deg, , ,N, , ,W, grid, , , ,N
Point16,xy, , ,in, deg, , ,N, , ,W, grid, , , ,N
Point17,xy, , ,in, deg, , ,N, , ,W, grid, , , ,N
Point18,xy, , ,in, deg, , ,N, , ,W, grid, , , ,N
Point19,xy, , ,in, deg, , ,N, , ,W, grid, , , ,N
Point20,xy, , ,in, deg, , ,N, , ,W, grid, , , ,N
Point21,xy, , ,in, deg, , ,N, , ,W, grid, , , ,N
Point22,xy, , ,in, deg, , ,N, , ,W, grid, , , ,N
Point23,xy, , ,in, deg, , ,N, , ,W, grid, , , ,N
Point24,xy, , ,in, deg, , ,N, , ,W, grid, , , ,N
Point25,xy, , ,in, deg, , ,N, , ,W, grid, , , ,N
Point26,xy, , ,in, deg, , ,N, , ,W, grid, , , ,N
Point27,xy, , ,in, deg, , ,N, , ,W, grid, , , ,N
Point28,xy, , ,in, deg, , ,N, , ,W, grid, , , ,N
Point29,xy, , ,in, deg, , ,N, , ,W, grid, , , ,N
Point30,xy, , ,in, deg, , ,N, , ,W, grid, , , ,N
Projection Setup, 0.000000000, 39.000000000, 1.000000000, 500000.00, 0.00,,,,,
Map Feature = MF ; Map Comment = MC These follow if they exist
Track File = TF These follow if they exist
Moving Map Parameters = MM? These follow if they exist
MM0,Yes
MMPNUM,4
MMPXY,1,119,99
MMPXY,2,3609,99
MMPXY,3,3609,3008
MMPXY,4,119,3008
MMPLL,1, 40.997994, 66.665102
MMPLL,2, 42.001122, 66.665576
MMPLL,3, 41.995070, 66.334254
MMPLL,4, 41.005186, 66.333744
MM1B,12.695871
MOP,Map Open Position,0,0
IWH,Map Image Width/Height,3728,3107
