OziExplorer Map Data File Version 2.2
100k--q37-071_072.gif
100k--q37-071_072.gif
1 ,Map Code,
Pulkovo 1942 (2),WGS 84, 0.0000, 0.0000,WGS 84
Reserved 1
Reserved 2
Magnetic Variation,,,E
Map Projection,Transverse Mercator,PolyCal,No,AutoCalOnly,No,BSBUseWPX,No
Point01,xy, 76, 60,in, deg, 66, 20.0000,N, 41, 0.0000,E, grid, , , ,N
Point02,xy, 1845, 61,in, deg, 66, 20.0000,N, 41, 30.0000,E, grid, , , ,N
Point03,xy, 3614, 65,in, deg, 66, 20.0000,N, 42, 0.0000,E, grid, , , ,N
Point04,xy, 66, 1521,in, deg, 66, 10.0000,N, 41, 0.0000,E, grid, , , ,N
Point05,xy, 1845, 1521,in, deg, 66, 10.0000,N, 41, 30.0000,E, grid, , , ,N
Point06,xy, 3625, 1522,in, deg, 66, 10.0000,N, 42, 0.0000,E, grid, , , ,N
Point07,xy, 62, 2979,in, deg, 66, 0.0000,N, 41, 0.0000,E, grid, , , ,N
Point08,xy, 1851, 2985,in, deg, 66, 0.0000,N, 41, 30.0000,E, grid, , , ,N
Point09,xy, 3642, 2982,in, deg, 66, 0.0000,N, 42, 0.0000,E, grid, , , ,N
Point10,xy, , ,in, deg, , ,N, , ,W, grid, , , ,N
Point11,xy, , ,in, deg, , ,N, , ,W, grid, , , ,N
Point12,xy, , ,in, deg, , ,N, , ,W, grid, , , ,N
Point13,xy, , ,in, deg, , ,N, , ,W, grid, , , ,N
Point14,xy, , ,in, deg, , ,N, , ,W, grid, , , ,N
Point15,xy, , ,in, deg, , ,N, , ,W, grid, , , ,N
Point16,xy, , ,in, deg, , ,N, , ,W, grid, , , ,N
Point17,xy, , ,in, deg, , ,N, , ,W, grid, , , ,N
Point18,xy, , ,in, deg, , ,N, , ,W, grid, , , ,N
Point19,xy, , ,in, deg, , ,N, , ,W, grid, , , ,N
Point20,xy, , ,in, deg, , ,N, , ,W, grid, , , ,N
Point21,xy, , ,in, deg, , ,N, , ,W, grid, , , ,N
Point22,xy, , ,in, deg, , ,N, , ,W, grid, , , ,N
Point23,xy, , ,in, deg, , ,N, , ,W, grid, , , ,N
Point24,xy, , ,in, deg, , ,N, , ,W, grid, , , ,N
Point25,xy, , ,in, deg, , ,N, , ,W, grid, , , ,N
Point26,xy, , ,in, deg, , ,N, , ,W, grid, , , ,N
Point27,xy, , ,in, deg, , ,N, , ,W, grid, , , ,N
Point28,xy, , ,in, deg, , ,N, , ,W, grid, , , ,N
Point29,xy, , ,in, deg, , ,N, , ,W, grid, , , ,N
Point30,xy, , ,in, deg, , ,N, , ,W, grid, , , ,N
Projection Setup, 0.000000000, 39.000000000, 1.000000000, 500000.00, 0.00,,,,,
Map Feature = MF ; Map Comment = MC These follow if they exist
Track File = TF These follow if they exist
Moving Map Parameters = MM? These follow if they exist
MM0,Yes
MMPNUM,4
MMPXY,1,76,60
MMPXY,2,3614,65
MMPXY,3,3642,2982
MMPXY,4,62,2979
MMPLL,1, 41.000000, 66.333333
MMPLL,2, 42.000000, 66.333333
MMPLL,3, 42.000000, 66.000000
MMPLL,4, 41.000000, 66.000000
MM1B,12.159054
MOP,Map Open Position,0,0
IWH,Map Image Width/Height,3697,3043
