OziExplorer Map Data File Version 2.2
100k--r36-131_132--(1987).gif
100k--r36-131_132--(1987).gif
1 ,Map Code,
Pulkovo 1942 (2),WGS 84, 0.0000, 0.0000,WGS 84
Reserved 1
Reserved 2
Magnetic Variation,,,E
Map Projection,Transverse Mercator,PolyCal,No,AutoCalOnly,No,BSBUseWPX,No
Point01,xy, 114, 96,in, deg, 68, 40.0000,N, 35, 0.0000,E, grid, , , ,N
Point02,xy, 1712, 100,in, deg, 68, 40.0000,N, 35, 30.0000,E, grid, , , ,N
Point03,xy, 3308, 92,in, deg, 68, 40.0000,N, 36, 0.0000,E, grid, , , ,N
Point04,xy, 105, 1556,in, deg, 68, 30.0000,N, 35, 0.0000,E, grid, , , ,N
Point05,xy, 1712, 1562,in, deg, 68, 30.0000,N, 35, 30.0000,E, grid, , , ,N
Point06,xy, 3320, 1552,in, deg, 68, 30.0000,N, 36, 0.0000,E, grid, , , ,N
Point07,xy, 97, 3014,in, deg, 68, 20.0000,N, 35, 0.0000,E, grid, , , ,N
Point08,xy, 1714, 3019,in, deg, 68, 20.0000,N, 35, 30.0000,E, grid, , , ,N
Point09,xy, 3333, 3010,in, deg, 68, 20.0000,N, 36, 0.0000,E, grid, , , ,N
Point10,xy, , ,in, deg, , ,N, , ,W, grid, , , ,N
Point11,xy, , ,in, deg, , ,N, , ,W, grid, , , ,N
Point12,xy, , ,in, deg, , ,N, , ,W, grid, , , ,N
Point13,xy, , ,in, deg, , ,N, , ,W, grid, , , ,N
Point14,xy, , ,in, deg, , ,N, , ,W, grid, , , ,N
Point15,xy, , ,in, deg, , ,N, , ,W, grid, , , ,N
Point16,xy, , ,in, deg, , ,N, , ,W, grid, , , ,N
Point17,xy, , ,in, deg, , ,N, , ,W, grid, , , ,N
Point18,xy, , ,in, deg, , ,N, , ,W, grid, , , ,N
Point19,xy, , ,in, deg, , ,N, , ,W, grid, , , ,N
Point20,xy, , ,in, deg, , ,N, , ,W, grid, , , ,N
Point21,xy, , ,in, deg, , ,N, , ,W, grid, , , ,N
Point22,xy, , ,in, deg, , ,N, , ,W, grid, , , ,N
Point23,xy, , ,in, deg, , ,N, , ,W, grid, , , ,N
Point24,xy, , ,in, deg, , ,N, , ,W, grid, , , ,N
Point25,xy, , ,in, deg, , ,N, , ,W, grid, , , ,N
Point26,xy, , ,in, deg, , ,N, , ,W, grid, , , ,N
Point27,xy, , ,in, deg, , ,N, , ,W, grid, , , ,N
Point28,xy, , ,in, deg, , ,N, , ,W, grid, , , ,N
Point29,xy, , ,in, deg, , ,N, , ,W, grid, , , ,N
Point30,xy, , ,in, deg, , ,N, , ,W, grid, , , ,N
Projection Setup, 0.000000000, 33.000000000, 1.000000000, 500000.00, 0.00,,,,,
Map Feature = MF ; Map Comment = MC These follow if they exist
Track File = TF These follow if they exist
Moving Map Parameters = MM? These follow if they exist
MM0,Yes
MMPNUM,4
MMPXY,1,110,100
MMPXY,2,3325,100
MMPXY,3,3325,3014
MMPXY,4,110,3014
MMPLL,1, 34.998290, 68.666251
MMPLL,2, 36.005699, 68.665765
MMPLL,3, 35.997274, 68.332966
MMPLL,4, 35.004602, 68.333412
MM1B,12.713835
MOP,Map Open Position,0,0
IWH,Map Image Width/Height,3435,3114
