OziExplorer Map Data File Version 2.2
100k--r37-121_122.gif
100k--r37-121_122.gif
1 ,Map Code,
Pulkovo 1942 (2),WGS 84, 0.0000, 0.0000,WGS 84
Reserved 1
Reserved 2
Magnetic Variation,,,E
Map Projection,Transverse Mercator,PolyCal,No,AutoCalOnly,No,BSBUseWPX,No
Point01,xy, 109, 94,in, deg, 68, 40.0000,N, 36, 0.0000,E, grid, , , ,N
Point02,xy, 1708, 102,in, deg, 68, 40.0000,N, 36, 30.0000,E, grid, , , ,N
Point03,xy, 3307, 94,in, deg, 68, 40.0000,N, 37, 0.0000,E, grid, , , ,N
Point04,xy, 100, 1560,in, deg, 68, 30.0000,N, 36, 0.0000,E, grid, , , ,N
Point05,xy, 1709, 1565,in, deg, 68, 30.0000,N, 36, 30.0000,E, grid, , , ,N
Point06,xy, 3320, 1558,in, deg, 68, 30.0000,N, 37, 0.0000,E, grid, , , ,N
Point07,xy, 92, 3028,in, deg, 68, 20.0000,N, 36, 0.0000,E, grid, , , ,N
Point08,xy, 1712, 3030,in, deg, 68, 20.0000,N, 36, 30.0000,E, grid, , , ,N
Point09,xy, 3334, 3020,in, deg, 68, 20.0000,N, 37, 0.0000,E, grid, , , ,N
Point10,xy, , ,in, deg, , ,N, , ,W, grid, , , ,N
Point11,xy, , ,in, deg, , ,N, , ,W, grid, , , ,N
Point12,xy, , ,in, deg, , ,N, , ,W, grid, , , ,N
Point13,xy, , ,in, deg, , ,N, , ,W, grid, , , ,N
Point14,xy, , ,in, deg, , ,N, , ,W, grid, , , ,N
Point15,xy, , ,in, deg, , ,N, , ,W, grid, , , ,N
Point16,xy, , ,in, deg, , ,N, , ,W, grid, , , ,N
Point17,xy, , ,in, deg, , ,N, , ,W, grid, , , ,N
Point18,xy, , ,in, deg, , ,N, , ,W, grid, , , ,N
Point19,xy, , ,in, deg, , ,N, , ,W, grid, , , ,N
Point20,xy, , ,in, deg, , ,N, , ,W, grid, , , ,N
Point21,xy, , ,in, deg, , ,N, , ,W, grid, , , ,N
Point22,xy, , ,in, deg, , ,N, , ,W, grid, , , ,N
Point23,xy, , ,in, deg, , ,N, , ,W, grid, , , ,N
Point24,xy, , ,in, deg, , ,N, , ,W, grid, , , ,N
Point25,xy, , ,in, deg, , ,N, , ,W, grid, , , ,N
Point26,xy, , ,in, deg, , ,N, , ,W, grid, , , ,N
Point27,xy, , ,in, deg, , ,N, , ,W, grid, , , ,N
Point28,xy, , ,in, deg, , ,N, , ,W, grid, , , ,N
Point29,xy, , ,in, deg, , ,N, , ,W, grid, , , ,N
Point30,xy, , ,in, deg, , ,N, , ,W, grid, , , ,N
Projection Setup, 0.000000000, 39.000000000, 1.000000000, 500000.00, 0.00,,,,,
Map Feature = MF ; Map Comment = MC These follow if they exist
Track File = TF These follow if they exist
Moving Map Parameters = MM? These follow if they exist
MM0,Yes
MMPNUM,4
MMPXY,1,110,100
MMPXY,2,3318,100
MMPXY,3,3318,3015
MMPXY,4,110,3015
MMPLL,1, 36.000114, 68.666209
MMPLL,2, 37.003768, 68.665834
MMPLL,3, 36.994992, 68.334138
MMPLL,4, 36.005971, 68.334538
MM1B,12.692892
MOP,Map Open Position,0,0
IWH,Map Image Width/Height,3428,3115
