OziExplorer Map Data File Version 2.2
100k--r37-135_136.gif
100k--r37-135_136.gif
1 ,Map Code,
Pulkovo 1942 (2),WGS 84, 0.0000, 0.0000,WGS 84
Reserved 1
Reserved 2
Magnetic Variation,,,E
Map Projection,Transverse Mercator,PolyCal,No,AutoCalOnly,No,BSBUseWPX,No
Point01,xy, 126, 94,in, deg, 68, 20.0000,N, 37, 0.0000,E, grid, , , ,N
Point02,xy, 1743, 107,in, deg, 68, 20.0000,N, 37, 30.0000,E, grid, , , ,N
Point03,xy, 3367, 105,in, deg, 68, 20.0000,N, 38, 0.0000,E, grid, , , ,N
Point04,xy, 108, 1558,in, deg, 68, 10.0000,N, 37, 0.0000,E, grid, , , ,N
Point05,xy, 1740, 1572,in, deg, 68, 10.0000,N, 37, 30.0000,E, grid, , , ,N
Point06,xy, 3373, 1566,in, deg, 68, 10.0000,N, 38, 0.0000,E, grid, , , ,N
Point07,xy, 93, 3023,in, deg, 68, 0.0000,N, 37, 0.0000,E, grid, , , ,N
Point08,xy, 1738, 3035,in, deg, 68, 0.0000,N, 37, 30.0000,E, grid, , , ,N
Point09,xy, 3382, 3028,in, deg, 68, 0.0000,N, 38, 0.0000,E, grid, , , ,N
Point10,xy, , ,in, deg, , ,N, , ,W, grid, , , ,N
Point11,xy, , ,in, deg, , ,N, , ,W, grid, , , ,N
Point12,xy, , ,in, deg, , ,N, , ,W, grid, , , ,N
Point13,xy, , ,in, deg, , ,N, , ,W, grid, , , ,N
Point14,xy, , ,in, deg, , ,N, , ,W, grid, , , ,N
Point15,xy, , ,in, deg, , ,N, , ,W, grid, , , ,N
Point16,xy, , ,in, deg, , ,N, , ,W, grid, , , ,N
Point17,xy, , ,in, deg, , ,N, , ,W, grid, , , ,N
Point18,xy, , ,in, deg, , ,N, , ,W, grid, , , ,N
Point19,xy, , ,in, deg, , ,N, , ,W, grid, , , ,N
Point20,xy, , ,in, deg, , ,N, , ,W, grid, , , ,N
Point21,xy, , ,in, deg, , ,N, , ,W, grid, , , ,N
Point22,xy, , ,in, deg, , ,N, , ,W, grid, , , ,N
Point23,xy, , ,in, deg, , ,N, , ,W, grid, , , ,N
Point24,xy, , ,in, deg, , ,N, , ,W, grid, , , ,N
Point25,xy, , ,in, deg, , ,N, , ,W, grid, , , ,N
Point26,xy, , ,in, deg, , ,N, , ,W, grid, , , ,N
Point27,xy, , ,in, deg, , ,N, , ,W, grid, , , ,N
Point28,xy, , ,in, deg, , ,N, , ,W, grid, , , ,N
Point29,xy, , ,in, deg, , ,N, , ,W, grid, , , ,N
Point30,xy, , ,in, deg, , ,N, , ,W, grid, , , ,N
Projection Setup, 0.000000000, 39.000000000, 1.000000000, 500000.00, 0.00,,,,,
Map Feature = MF ; Map Comment = MC These follow if they exist
Track File = TF These follow if they exist
Moving Map Parameters = MM? These follow if they exist
MM0,Yes
MMPNUM,4
MMPXY,1,111,100
MMPXY,2,3370,100
MMPXY,3,3370,3022
MMPXY,4,111,3022
MMPLL,1, 36.995913, 68.332838
MMPLL,2, 38.001362, 68.333764
MMPLL,3, 37.996480, 68.000967
MMPLL,4, 37.005490, 68.000075
MM1B,12.709341
MOP,Map Open Position,0,0
IWH,Map Image Width/Height,3481,3122
